BEGIN:VCALENDAR
VERSION:2.0
PRODID:-//ChamberMaster//Event Calendar 2.0//EN
METHOD:PUBLISH
X-PUBLISHED-TTL:P1H
REFRESH-INTERVAL:P1H
CALSCALE:GREGORIAN
BEGIN:VTIMEZONE
TZID:America/Chicago
BEGIN:DAYLIGHT
RRULE:FREQ=YEARLY;BYMONTH=3;BYDAY=2SU
DTSTART:20070101T000000
TZOFFSETFROM:-0600
TZOFFSETTO:-0500
TZNAME:Central Daylight Time
END:DAYLIGHT
BEGIN:STANDARD
RRULE:FREQ=YEARLY;BYMONTH=11;BYDAY=1SU
DTSTART:20070101T000000
TZOFFSETFROM:-0500
TZOFFSETTO:-0600
TZNAME:Central Standard Time
END:STANDARD
END:VTIMEZONE
BEGIN:VEVENT
DTSTART;TZID=America/Chicago:20260418T103020
DTEND;TZID=America/Chicago:20260418T120020
X-MICROSOFT-CDO-ALLDAYEVENT:FALSE
SUMMARY:Birding 101
DESCRIPTION:BIRDING 101\nWe have North Lakeland Discovery Center coming on April 18\, 2026\;  at 10:30 - 12:00 to explore bird identification tips\, useful resources\, and learn about common bird species one might encounter. \n\nCall the Tomahawk Public Library (715) 453-2455 or register at the front desk. On the day of the event\, all participants will be entered for a chance to win a fun birding prize!
X-ALT-DESC;FMTTYPE=text/html:BIRDING 101\nWe have North Lakeland Discovery Center coming on April 18\, 2026\;  at 10:30 - 12:00 to explore bird identification tips\, useful resources\, and learn about common bird species one might encounter. \n\nCall the Tomahawk Public Library (715) 453-2455 or register at the front desk. On the day of the event\, all participants will be entered for a chance to win a fun birding prize!
LOCATION:300 W Lincoln Avenue Tomahawk WI 54487
UID:e.2757.1446194
SEQUENCE:3
DTSTAMP:20260422T061104Z
URL:https://business.tomahawkchamber.com/calendar/Details/birding-101-1712898?sourceTypeId=Hub
END:VEVENT
END:VCALENDAR
