BEGIN:VCALENDAR
VERSION:2.0
PRODID:-//ChamberMaster//Event Calendar 2.0//EN
METHOD:PUBLISH
X-PUBLISHED-TTL:P1H
REFRESH-INTERVAL:P1H
CALSCALE:GREGORIAN
BEGIN:VTIMEZONE
TZID:America/Chicago
BEGIN:DAYLIGHT
RRULE:FREQ=YEARLY;BYMONTH=3;BYDAY=2SU
DTSTART:20070101T000000
TZOFFSETFROM:-0600
TZOFFSETTO:-0500
TZNAME:Central Daylight Time
END:DAYLIGHT
BEGIN:STANDARD
RRULE:FREQ=YEARLY;BYMONTH=11;BYDAY=1SU
DTSTART:20070101T000000
TZOFFSETFROM:-0500
TZOFFSETTO:-0600
TZNAME:Central Standard Time
END:STANDARD
END:VTIMEZONE
BEGIN:VEVENT
DTSTART;TZID=America/Chicago:20260502T100000
DTEND;TZID=America/Chicago:20260502T130000
X-MICROSOFT-CDO-ALLDAYEVENT:FALSE
SUMMARY:BLUEY & BINGO ARE VISITING THE LIBRARY
DESCRIPTION:Rescheduled Event\nBLUEY & BINGO ARE VISITING THE LIBRARY\nSaturday\, May 2\, 2026\nDoors open 10:00 a.m. for all ages.\n(Dance-party\, keepy-uppy\, Crafts and Fun)
X-ALT-DESC;FMTTYPE=text/html:Rescheduled Event\nBLUEY & BINGO ARE VISITING THE LIBRARY\nSaturday\, May 2\, 2026\nDoors open 10:00 a.m. for all ages.\n(Dance-party\, keepy-uppy\, Crafts and Fun)
LOCATION:300 W Lincoln Avenue Tomahawk WI 54487
UID:e.2757.1446214
SEQUENCE:3
DTSTAMP:20260422T064039Z
URL:https://business.tomahawkchamber.com/calendar/Details/bluey-bingo-are-visiting-the-library-1712912?sourceTypeId=Hub
END:VEVENT
END:VCALENDAR
