BEGIN:VCALENDAR
VERSION:2.0
PRODID:-//ChamberMaster//Event Calendar 2.0//EN
METHOD:PUBLISH
X-PUBLISHED-TTL:P1H
REFRESH-INTERVAL:P1H
CALSCALE:GREGORIAN
BEGIN:VTIMEZONE
TZID:America/Chicago
BEGIN:DAYLIGHT
RRULE:FREQ=YEARLY;BYMONTH=3;BYDAY=2SU
DTSTART:20070101T000000
TZOFFSETFROM:-0600
TZOFFSETTO:-0500
TZNAME:Central Daylight Time
END:DAYLIGHT
BEGIN:STANDARD
RRULE:FREQ=YEARLY;BYMONTH=11;BYDAY=1SU
DTSTART:20070101T000000
TZOFFSETFROM:-0500
TZOFFSETTO:-0600
TZNAME:Central Standard Time
END:STANDARD
END:VTIMEZONE
BEGIN:VEVENT
DTSTART;TZID=America/Chicago:20260530T100000
DTEND;TZID=America/Chicago:20260530T130000
X-MICROSOFT-CDO-ALLDAYEVENT:FALSE
SUMMARY:GUIDE BIRD WALK
DESCRIPTION:GUIDE BIRD WALK\nMAY 30\, 2026\n10:00 – 1:00\nJoin Chucky for an outdoor walk around the library where he will be sharing his knowledge about birds and teaching people how to get into birding.\nCall or register at the front desk of Tomahawk Public Library.\nOn the day of the event\, all participants will be entered for a chance to win a fun birding prize!
X-ALT-DESC;FMTTYPE=text/html:GUIDE BIRD WALK\nMAY 30\, 2026\n10:00 – 1:00\nJoin Chucky for an outdoor walk around the library where he will be sharing his knowledge about birds and teaching people how to get into birding.\nCall or register at the front desk of Tomahawk Public Library.\nOn the day of the event\, all participants will be entered for a chance to win a fun birding prize!
LOCATION:300 W Lincoln Avenue Tomahawk WI 54487
UID:e.2757.1446217
SEQUENCE:3
DTSTAMP:20260422T061104Z
URL:https://business.tomahawkchamber.com/calendar/Details/guide-bird-walk-1712915?sourceTypeId=Hub
END:VEVENT
END:VCALENDAR
