BEGIN:VCALENDAR
VERSION:2.0
PRODID:-//ChamberMaster//Event Calendar 2.0//EN
METHOD:PUBLISH
X-PUBLISHED-TTL:P1H
REFRESH-INTERVAL:P1H
CALSCALE:GREGORIAN
BEGIN:VTIMEZONE
TZID:America/Chicago
BEGIN:DAYLIGHT
RRULE:FREQ=YEARLY;BYMONTH=3;BYDAY=2SU
DTSTART:20070101T000000
TZOFFSETFROM:-0600
TZOFFSETTO:-0500
TZNAME:Central Daylight Time
END:DAYLIGHT
BEGIN:STANDARD
RRULE:FREQ=YEARLY;BYMONTH=11;BYDAY=1SU
DTSTART:20070101T000000
TZOFFSETFROM:-0500
TZOFFSETTO:-0600
TZNAME:Central Standard Time
END:STANDARD
END:VTIMEZONE
BEGIN:VEVENT
DTSTART;VALUE=DATE:20260805
DTEND;VALUE=DATE:20260810
TRANSP:TRANSPARENT
X-MICROSOFT-CDO-ALLDAYEVENT:TRUE
SUMMARY:Lincoln County Fair
DESCRIPTION:Annual County Fair ( 141 years). 5 days of fun\, family\, animals and food! New carnival this year with a big gondola Ferris Wheel and Merry go round among other exciting rides. Bigger Demo Derby track this year!
X-ALT-DESC;FMTTYPE=text/html:Annual County Fair ( 141 years). 5 days of fun\, family\, animals and food! New carnival this year with a big gondola Ferris Wheel and Merry go round among other exciting rides. Bigger Demo Derby track this year!
LOCATION:PO Box 921 Merrill WI 54452
UID:e.2757.1446281
SEQUENCE:3
DTSTAMP:20260422T061251Z
URL:https://business.tomahawkchamber.com/calendar/Details/lincoln-county-fair-1713012?sourceTypeId=Hub
END:VEVENT
END:VCALENDAR
