BEGIN:VCALENDAR
VERSION:2.0
PRODID:-//ChamberMaster//Event Calendar 2.0//EN
METHOD:PUBLISH
X-PUBLISHED-TTL:P1H
REFRESH-INTERVAL:P1H
CALSCALE:GREGORIAN
BEGIN:VTIMEZONE
TZID:America/Chicago
BEGIN:DAYLIGHT
RRULE:FREQ=YEARLY;BYMONTH=3;BYDAY=2SU
DTSTART:20070101T000000
TZOFFSETFROM:-0600
TZOFFSETTO:-0500
TZNAME:Central Daylight Time
END:DAYLIGHT
BEGIN:STANDARD
RRULE:FREQ=YEARLY;BYMONTH=11;BYDAY=1SU
DTSTART:20070101T000000
TZOFFSETFROM:-0500
TZOFFSETTO:-0600
TZNAME:Central Standard Time
END:STANDARD
END:VTIMEZONE
BEGIN:VEVENT
DTSTART;TZID=America/Chicago:20260508T160000
DTEND;TZID=America/Chicago:20260508T190000
X-MICROSOFT-CDO-ALLDAYEVENT:FALSE
SUMMARY:Main Street Wine Walk
DESCRIPTION:ON FRIDAY\, MAY 8TH FROM 4:00 P.M.- 7:00 P.M. IS OUR 11th ANNUAL WINE WALK (20+ STOPS)\, APPETIZERS\, SHOPPING\, AND FUN!\nTICKETS GO ON SALE FRIDAY\, APRIL 10Th AT 8:00 A.M. - $35.00 EACH\n250 TICKETS AVAILABLE\nNO PRESALES.\nTickets available at:\nTOMAHAWK MAIN STREET\, INC. office\n715-453-1090\n223 W Wisconsin Avenue
X-ALT-DESC;FMTTYPE=text/html:ON FRIDAY\, MAY 8TH FROM 4:00 P.M.- 7:00 P.M. IS OUR 11th ANNUAL WINE WALK (20+ STOPS)\, APPETIZERS\, SHOPPING\, AND FUN!\nTICKETS GO ON SALE FRIDAY\, APRIL 10Th AT 8:00 A.M. - $35.00 EACH\n250 TICKETS AVAILABLE\nNO PRESALES.\nTickets available at:\nTOMAHAWK MAIN STREET\, INC. office\n715-453-1090\n223 W Wisconsin Avenue
LOCATION:West Wisconsin Ave Tomahawk 54487
UID:e.2757.1444740
SEQUENCE:3
DTSTAMP:20260422T061513Z
URL:https://business.tomahawkchamber.com/calendar/Details/main-street-wine-walk-1711142?sourceTypeId=Hub
END:VEVENT
END:VCALENDAR
