BEGIN:VCALENDAR
VERSION:2.0
PRODID:-//ChamberMaster//Event Calendar 2.0//EN
METHOD:PUBLISH
X-PUBLISHED-TTL:P1H
REFRESH-INTERVAL:P1H
CALSCALE:GREGORIAN
BEGIN:VTIMEZONE
TZID:America/Chicago
BEGIN:DAYLIGHT
RRULE:FREQ=YEARLY;BYMONTH=3;BYDAY=2SU
DTSTART:20070101T000000
TZOFFSETFROM:-0600
TZOFFSETTO:-0500
TZNAME:Central Daylight Time
END:DAYLIGHT
BEGIN:STANDARD
RRULE:FREQ=YEARLY;BYMONTH=11;BYDAY=1SU
DTSTART:20070101T000000
TZOFFSETFROM:-0500
TZOFFSETTO:-0600
TZNAME:Central Standard Time
END:STANDARD
END:VTIMEZONE
BEGIN:VEVENT
DTSTART;TZID=America/Chicago:20260426T130000
DTEND;TZID=America/Chicago:20260426T160000
X-MICROSOFT-CDO-ALLDAYEVENT:FALSE
SUMMARY:Tomahawk Community Theater Open House
DESCRIPTION:Experience the magic of the Tomahawk Community Theater. Join us at Sideways Wine and Craft Beer from 1:00 - 4:00 p.m. for our open house - meet the board\, our actors\, and hear all about the wonderful entertainment being planned.
X-ALT-DESC;FMTTYPE=text/html:Experience the magic of the Tomahawk Community Theater. Join us at Sideways Wine and Craft Beer from 1:00 - 4:00 p.m. for our open house - meet the board\, our actors\, and hear all about the wonderful entertainment being planned.
LOCATION:124 W Wisconsin Ave Tomahawk 54487
UID:e.2757.1444842
SEQUENCE:3
DTSTAMP:20260422T063939Z
URL:https://business.tomahawkchamber.com/calendar/Details/tomahawk-community-theater-open-house-1711260?sourceTypeId=Hub
END:VEVENT
END:VCALENDAR
