BEGIN:VCALENDAR
VERSION:2.0
PRODID:-//ChamberMaster//Event Calendar 2.0//EN
METHOD:PUBLISH
X-PUBLISHED-TTL:P1H
REFRESH-INTERVAL:P1H
CALSCALE:GREGORIAN
BEGIN:VTIMEZONE
TZID:America/Chicago
BEGIN:DAYLIGHT
RRULE:FREQ=YEARLY;BYMONTH=3;BYDAY=2SU
DTSTART:20070101T000000
TZOFFSETFROM:-0600
TZOFFSETTO:-0500
TZNAME:Central Daylight Time
END:DAYLIGHT
BEGIN:STANDARD
RRULE:FREQ=YEARLY;BYMONTH=11;BYDAY=1SU
DTSTART:20070101T000000
TZOFFSETFROM:-0500
TZOFFSETTO:-0600
TZNAME:Central Standard Time
END:STANDARD
END:VTIMEZONE
BEGIN:VEVENT
DTSTART;TZID=America/Chicago:20260524T070000
DTEND;TZID=America/Chicago:20260524T160000
X-MICROSOFT-CDO-ALLDAYEVENT:FALSE
SUMMARY:Tomahawk Main Street for the 32nd Annual Main Street Memories Car Show
DESCRIPTION:Join Tomahawk Main Street for the 32nd Annual Main Street Memories Car Show on Sunday\, May 24\, 2026!\nIt is one of Northern Wisconsin's first car shows of the season\, and it takes place in Tomahawk’s historic downtown Main Street district. It is a family friendly event\, and ALL are Welcome…RAIN OR SHINE!\n*ADMISSION: FREE to Spectators\nCRAFT & FOOD VENDORS:\n9:00 A.M. - 3:00 P.M.\n🥳 KIDS ACTIVITIES:\n10:00 A.M. - 2:00 P.M.\nBOUNCE HOUSE\nOBSTACLE COURSE\nBALLOON ANIMALS/ART\nFISHBOWL GAME\nD.J.\nPETTING ZOO\n\n🎟️ 50/50 CASH RAFFLE:\n9:00 A.M. - 2:00 P.M.\n\n😀😀😀😀😀😀😀😀😀😀😀😀😀😀😀😀😀😀😀😀😀😀😀😀😀😀 😀😀\n😀😀😀😀\n\nVehicle Registration:\n7:00 A.M. - 11:00 A.M.\nALL CAR SHOW | FOOD VENDOR | CRAFT VENDOR |\nEVENT SPONSOR INFORMATION CONTACT:\nJENNIFER TURKIEWICZ - Executive Director\, Tomahawk Main Street\, at 715-453-1090 or director@tomahawkmainstreet.org\nFollow the LINK below to PREREGISTER.\n👇👇👇👇👇👇👇👇👇👇👇👇👇👇\nhttps://givebutter.com/TMSCarShow
X-ALT-DESC;FMTTYPE=text/html:Join Tomahawk Main Street for the 32nd Annual Main Street Memories Car Show on Sunday\, May 24\, 2026!\nIt is one of Northern Wisconsin's first car shows of the season\, and it takes place in Tomahawk’s historic downtown Main Street district. It is a family friendly event\, and ALL are Welcome…RAIN OR SHINE!\n*ADMISSION: FREE to Spectators\nCRAFT & FOOD VENDORS:\n9:00 A.M. - 3:00 P.M.\n🥳 KIDS ACTIVITIES:\n10:00 A.M. - 2:00 P.M.\nBOUNCE HOUSE\nOBSTACLE COURSE\nBALLOON ANIMALS/ART\nFISHBOWL GAME\nD.J.\nPETTING ZOO\n\n🎟️ 50/50 CASH RAFFLE:\n9:00 A.M. - 2:00 P.M.\n\n😀😀😀😀😀😀😀😀😀😀😀😀😀😀😀😀😀😀😀😀😀😀😀😀😀😀 😀😀\n😀😀😀😀\n\nVehicle Registration:\n7:00 A.M. - 11:00 A.M.\nALL CAR SHOW | FOOD VENDOR | CRAFT VENDOR |\nEVENT SPONSOR INFORMATION CONTACT:\nJENNIFER TURKIEWICZ - Executive Director\, Tomahawk Main Street\, at 715-453-1090 or director@tomahawkmainstreet.org\nFollow the LINK below to PREREGISTER.\n👇👇👇👇👇👇👇👇👇👇👇👇👇👇\nhttps://givebutter.com/TMSCarShow
LOCATION:West Wisconsin Ave Tomahawk 54487
UID:e.2757.1444742
SEQUENCE:3
DTSTAMP:20260422T064439Z
URL:https://business.tomahawkchamber.com/calendar/Details/tomahawk-main-street-for-the-32nd-annual-main-street-memories-car-show-1711144?sourceTypeId=Hub
END:VEVENT
END:VCALENDAR
